BEGIN:VCALENDAR
VERSION:2.0
PRODID:spatie/icalendar-generator
DESCRIPTION:Events from The Church on the Hill
X-WR-CALDESC:Events from The Church on the Hill
REFRESH-INTERVAL;VALUE=DURATION:PT1440M
X-PUBLISHED-TTL:PT1440M
BEGIN:VTIMEZONE
TZID:America/New_York
BEGIN:STANDARD
DTSTART:20251102T020000Z
TZOFFSETFROM:-0400
TZOFFSETTO:-0500
END:STANDARD
BEGIN:DAYLIGHT
DTSTART:20260308T020000Z
TZOFFSETFROM:-0500
TZOFFSETTO:-0400
END:DAYLIGHT
BEGIN:STANDARD
DTSTART:20261101T020000Z
TZOFFSETFROM:-0400
TZOFFSETTO:-0500
END:STANDARD
END:VTIMEZONE
BEGIN:VTIMEZONE
TZID:UTC
BEGIN:STANDARD
DTSTART:20250726T145555Z
TZOFFSETFROM:+0000
TZOFFSETTO:+0000
END:STANDARD
END:VTIMEZONE
BEGIN:VEVENT
UID:353-148
DTSTAMP:20260422T145555Z
SUMMARY:Spring Family Camping
LOCATION:Church on the Hill 101 Gum Springs Church Road  Jefferson GA 30549
ORGANIZER;CN=admin-tcoth:MAILTO:tim@hill.church
RRULE:FREQ=DAILY;UNTIL=20260502T000000Z
DTSTART;TZID=America/New_York:20260501T170000
DTEND;TZID=America/New_York:20260501T180000
X-ALT-DESC;FMTTYPE=TEXT/HTML:May 1-2- Family Camping Join us for this fun t
 ime of family fellowship. Smithgall Woods in Helen\, GA. There is a cove
 red pavilion\, fire pit\, and restrooms.  Bring your tent\, sleeping bags
 \, and any other camping supplies you might need. We will provide Friday
  dinner\, Saturday Breakfast\, and Saturday Lunch. It is just $30 for the 
 whole family. 50 spots&amp;hellip\;
CATEGORIES:Churchwide
URL;VALUE=URI:https://hill.church/mc-events/spring-family-camping/?mc_id=35
 3
METHOD:PUBLISH
END:VEVENT
END:VCALENDAR